BEGIN:VCALENDAR
VERSION:2.0
PRODID:icalendar-ruby
CALSCALE:GREGORIAN
METHOD:PUBLISH
BEGIN:VEVENT
DTSTAMP:20260422T103436Z
UID:15-496926@prairievalley.org
DTSTART:20261103T003000Z
DTEND:20261103T014500Z
CLASS:PUBLIC
CREATED:20260421T193537
DESCRIPTION:
LAST-MODIFIED:20260421T193537
LOCATION:Prairie Valley
SUMMARY:Family Night (All ages)
URL;VALUE=URI:https://prairievalley.org/events/family-night-all-ages/2026-1
 1-02
ATTACH;FILENAME=F7jYf.jpg;FMTTYPE=image/jpeg:https://dq5pwpg1q8ru0.cloudfro
 nt.net/2024/12/14/15/57/11/c8176567-1c2b-4f39-9f44-ebff79211016/F7jYf.jpg
END:VEVENT
END:VCALENDAR
